BEGIN:VCALENDAR
VERSION:2.0
PRODID:-//ATEQ Corp. - ECPv6.13.2.1//NONSGML v1.0//EN
CALSCALE:GREGORIAN
METHOD:PUBLISH
X-WR-CALNAME:ATEQ Corp.
X-ORIGINAL-URL:https://atequsa.com
X-WR-CALDESC:Events for ATEQ Corp.
REFRESH-INTERVAL;VALUE=DURATION:PT1H
X-Robots-Tag:noindex
X-PUBLISHED-TTL:PT1H
BEGIN:VTIMEZONE
TZID:America/Detroit
BEGIN:DAYLIGHT
TZOFFSETFROM:-0500
TZOFFSETTO:-0400
TZNAME:EDT
DTSTART:20230312T070000
END:DAYLIGHT
BEGIN:STANDARD
TZOFFSETFROM:-0400
TZOFFSETTO:-0500
TZNAME:EST
DTSTART:20231105T060000
END:STANDARD
BEGIN:DAYLIGHT
TZOFFSETFROM:-0500
TZOFFSETTO:-0400
TZNAME:EDT
DTSTART:20240310T070000
END:DAYLIGHT
BEGIN:STANDARD
TZOFFSETFROM:-0400
TZOFFSETTO:-0500
TZNAME:EST
DTSTART:20241103T060000
END:STANDARD
BEGIN:DAYLIGHT
TZOFFSETFROM:-0500
TZOFFSETTO:-0400
TZNAME:EDT
DTSTART:20250309T070000
END:DAYLIGHT
BEGIN:STANDARD
TZOFFSETFROM:-0400
TZOFFSETTO:-0500
TZNAME:EST
DTSTART:20251102T060000
END:STANDARD
END:VTIMEZONE
BEGIN:VEVENT
DTSTART;VALUE=DATE:20251021
DTEND;VALUE=DATE:20251024
DTSTAMP:20260423T201832
CREATED:20250910T140955Z
LAST-MODIFIED:20250918T160620Z
UID:35952-1761004800-1761263999@atequsa.com
SUMMARY:Join ATEQ at The Assembly Show in Rosemont\, IL - Booth #1231!
DESCRIPTION:Come Meet ATEQ Experts at The Assembly Show 2025 in Rosemont\, IL\nJoin ATEQ at The Assembly Show 2025\, Booth #1231 in Rosemont\, IL\, to discuss leak detection solutions for assembly lines and production processes. \nJoin us for a live demo at our booth #1231 on Wednesday\, October 21\, 2025\, at 3:30 PM to see ATEQ instruments in action. \nLearn how our F620 pressure decay tester streamlines production line testing\, how the HE 490S Helium Tracer Gas enables highly sensitive leak detection\, and how the F28 compact format tester allows integration of multiple stations for high-volume production. \nExplore our full range of products here\, designed to enhance quality across your production processes.
URL:https://atequsa.com/event/join-ateq-the-assembly-show-in-rosemont-il-booth-1231/
LOCATION:Donald E. Stephens Convention Center\, 5555 N River Rd\, Rosemont\, IL\, 60018\, United States
ORGANIZER;CN="The Assembly Show":MAILTO:ASMsouth@executivevents.com
END:VEVENT
BEGIN:VEVENT
DTSTART;VALUE=DATE:20251006
DTEND;VALUE=DATE:20251010
DTSTAMP:20260423T201832
CREATED:20250910T140723Z
LAST-MODIFIED:20250918T161316Z
UID:35947-1759708800-1760054399@atequsa.com
SUMMARY:Join ATEQ @ The Battery Show 2025 in Detroit\, MI - Booth #2916!
DESCRIPTION:Come Meet ATEQ Experts at The Battery Show 2025 in Huntington Place (Detroit\, MI)\nJoin ATEQ at The Battery Show 2025\, Booth #2916 in Huntington Place\, Detroit\, MI\, to discuss leak detection solutions for EV batteries. \nJoin us for a live demo at our booth #2916 on October 7\, 2025\, at 2 PM\, and a basic leak testing training on October 8\, 2025\, at 2 PM to learn how to use ATEQ instruments effectively. \nLearn how our F620 pressure decay tester streamlines production line testing (as well as its large volume version F670LV\, wich can be used for testing the whole battery housing). Discover also how the IONIQ enables precise pouch cell testing with ionization\, or how the FP726 Auto-Sufficient can provides you plug-and-play air leak testing for after-sales support.  \nExplore our full range of EV battery solutions here\, designed to boost efficiency across your battery production processes.
URL:https://atequsa.com/event/join-ateq-the-battery-show-2025-in-detroit-mi/
LOCATION:Huntington Place Detroit\, MI\, 1 Washington Blvd\, Detroit\, MI\, 48226\, United States
ATTACH;FMTTYPE=image/jpeg:https://atequsa.com/wp-content/uploads/2025/09/ateqcorp._BNA_VIPGI_470x470.jpg
ORGANIZER;CN="The Battery Show":MAILTO:registration.ime@informa.com
END:VEVENT
BEGIN:VEVENT
DTSTART;TZID=America/Detroit:20250625T150000
DTEND;TZID=America/Detroit:20250625T190000
DTSTAMP:20260423T201832
CREATED:20250429T190432Z
LAST-MODIFIED:20250918T185859Z
UID:34765-1750863600-1750878000@atequsa.com
SUMMARY:Engineering Day in Ronkonkoma\, NY – Join us on June 25!
DESCRIPTION:ATEQ USA is inviting you to its Engineering Day in Ronkonkoma\, NY on Wednesday\, June 25\nWhat to expect ? Hands-on learning\, product demos\, and expert insights into the critical role of leak testing in modern manufacturing. \nThe event kicks off at 3:00 PM with welcome\, registration\, and refreshments. At 3:30 PM\, attendees will dive into the fundamentals of leak testing during an informative presentation\, followed by a facility tour and live product demonstrations starting at 4:30 PM. ATEQ engineers will be available for an in-depth Q&A session at 5:30 PM\, addressing your real-world leak testing challenges. \nTo close the day\, guests can network with industry peers from 6:00 to 7:00 PM while enjoying snacks and drinks. Whether you’re an engineer\, quality manager\, or manufacturing specialist\, this is a unique opportunity to get hands-on with cutting-edge leak testing technology. \n📍 Location: 2101 9th Ave\, Ronkonkoma\, NY 11779 \n🕒 Date & Time: June\, 25 3:00–7:00 PM \n👉 Register Here: https://share.hsforms.com/18T_hZKw1QF–W6cxBVM4dAeh6w7
URL:https://atequsa.com/event/engineering-day-in-ronkonkoma-ny-join-us-on-may-29/
LOCATION:ATEQ NY\, 2101 9th Ave\, Ronkonkoma\, NY\, 11779\, United States
END:VEVENT
BEGIN:VEVENT
DTSTART;TZID=America/Detroit:20250423T150000
DTEND;TZID=America/Detroit:20250423T190000
DTSTAMP:20260423T201832
CREATED:20250429T131850Z
LAST-MODIFIED:20250925T201759Z
UID:34759-1745420400-1745434800@atequsa.com
SUMMARY:ATEQ Engineering Day (Michigan) | Join Us on April 23\, 2025
DESCRIPTION:Meet ATEQ at Engineering Day in Livonia\, MI – April 23\, 2025ATEQ USA invites engineers\, manufacturers\, and quality professionals to its Engineering Day on Wednesday\, April 23\, 2025\, at our Livonia headquarters. This hands-on event is dedicated to exploring leak testing fundamentals and their crucial role in ensuring product reliability in industries like automotive\, electronics\, and energy storage. \nThe event will begin at 3:00 PM with registration and refreshments\, followed by an introduction and educational session on Leak Testing Fundamentals at 3:30 PM. At 4:30 PM\, guests will take part in a guided facility tour and enjoy live demonstrations of ATEQ’s cutting-edge leak testing solutions. The session continues with a Q&A at 5:30 PM\, offering direct insights from ATEQ engineers. \nTo wrap up the day\, attendees are invited to network from 6:00 to 7:00 PM over snacks and drinks. Whether you’re new to leak testing or looking to deepen your expertise\, Engineering Day is the perfect opportunity to engage with industry experts and discover the technology shaping the future of quality control.
URL:https://atequsa.com/event/ateq-engineering-day-michigan-join-us-on-april-23-2025/
LOCATION:ATEQ Corp. – Headquarters\, 35980 Industrial Rd\, Livonia\, MI\, 48150\, United States
END:VEVENT
BEGIN:VEVENT
DTSTART;TZID=America/Detroit:20250416T173000
DTEND;TZID=America/Detroit:20250416T190000
DTSTAMP:20260423T201832
CREATED:20250429T125941Z
LAST-MODIFIED:20250919T180229Z
UID:34752-1744824600-1744830000@atequsa.com
SUMMARY:SME Tour at ATEQ HQ – April 16 from 5:30 to 7PM
DESCRIPTION:ATEQ Hosts SME Tour at Michigan Headquarters – April 16\, 2025\nOn Wednesday\, April 16th\, ATEQ USA will host an exclusive SME Tour at our headquarters in Livonia\, Michigan\, focused on the evolving role of leak testing in manufacturing. As part of the tour\, visitors will explore how leak testing ensures product reliability\, safety\, and efficiency in today’s demanding industries—especially in fields like electric vehicles and data centers\, where precision is everything. \nAttendees will enjoy a behind-the-scenes look at ATEQ’s advanced testing technologies\, with a special presentation by Davy Leboucher on The Critical Role of Leak Testing in Manufacturing Quality Control. The event will also cover new leak-tightness standards for modern products such as EV batteries\, and how AI and machine learning are revolutionizing testing procedures. \nThe event begins at 5:30 PM with pizza\, refreshments\, and networking\, followed by a tour and presentation at 6:00 PM. We’ll conclude with an open Q&A session at 7:00 PM.
URL:https://atequsa.com/event/sme-tour-at-ateq-hq-april-16-from-530-to-7pm/
LOCATION:ATEQ Corp. – Headquarters\, 35980 Industrial Rd\, Livonia\, MI\, 48150\, United States
END:VEVENT
BEGIN:VEVENT
DTSTART;VALUE=DATE:20250210
DTEND;VALUE=DATE:20250213
DTSTAMP:20260423T201832
CREATED:20250429T123934Z
LAST-MODIFIED:20250919T182056Z
UID:34739-1739145600-1739404799@atequsa.com
SUMMARY:Join ATEQ USA at AHR Expo Orlando – February 10-12\, 2025
DESCRIPTION:ATEQ USA at AHR Expo Orlando 2025 – February 10–12\nATEQ USA is excited to announce our participation in the AHR Expo 2025 in Orlando\, Florida\, from February 10 to 12. This event is a great opportunity for professionals in the HVAC industry to discover the latest innovations in testing technology. \nAt our booth\, we’ll be showcasing our cutting-edge leak testing solutions designed to optimize performance\, enhance quality\, and improve energy efficiency in HVAC systems. Whether you’re an engineer\, a manufacturer\, or simply looking to stay ahead of industry trends\, you won’t want to miss this event! \nVisit us at booth #8447 to explore how ATEQ USA is pushing the boundaries of leak testing and helping businesses around the world achieve top-notch quality standards. \nWe look forward to seeing you there!
URL:https://atequsa.com/event/join-ateq-usa-at-ahr-expo-orlando-february-10-12-2025/
LOCATION:Orlando Convention Center\, 9800 International Dr\, Orlando\, 32819\, United States
END:VEVENT
BEGIN:VEVENT
DTSTART;VALUE=DATE:20241021
DTEND;VALUE=DATE:20241025
DTSTAMP:20260423T201832
CREATED:20240521T165728Z
LAST-MODIFIED:20250922T151206Z
UID:32231-1729540800-1729799999@atequsa.com
SUMMARY:Visit ATEQ USA @ THE ASSEMBLY SHOW 2024 (Rosemont\, IL) – Booth #1631
DESCRIPTION:Meet ATEQ USA at The Assembly Show 2024 – Booth #1631\nWe are thrilled to announce that ATEQ USA will be exhibiting at The Assembly Show 2024 in Rosemont\, IL. Visit us at Booth #1631 to discover our latest innovations in assembly testing technology. This event is a great opportunity to connect with industry leaders and explore cutting-edge solutions.
URL:https://atequsa.com/event/visit-ateq-usa-the-assembly-show-2024-rosemont-il-booth-1631/
LOCATION:Donald E. Stephens Convention Center\, 5555 N River Rd\, Rosemont\, IL\, 60018\, United States
ATTACH;FMTTYPE=image/webp:https://atequsa.com/wp-content/uploads/2024/05/assembly-show-ateq-booth-pics-sales-1.webp
ORGANIZER;CN="The Assembly Show":MAILTO:ASMsouth@executivevents.com
END:VEVENT
BEGIN:VEVENT
DTSTART;VALUE=DATE:20241006
DTEND;VALUE=DATE:20241011
DTSTAMP:20260423T201832
CREATED:20240521T165241Z
LAST-MODIFIED:20250919T183557Z
UID:32228-1728244800-1728590399@atequsa.com
SUMMARY:Visit ATEQ USA @ THE BATTERY SHOW 2024 (Detroit\, MI) – Booth #4805
DESCRIPTION:Join ATEQ USA for The Battery Show 2024 – Booth #4805\nWe are excited to announce that ATEQ USA will be exhibiting at The Battery Show 2024 in Detroit\, MI. Join us at Booth 4805 to explore our latest innovations in battery testing technology. This event is a premier opportunity to connect with industry leaders and discover cutting-edge solutions. See you there!
URL:https://atequsa.com/event/visit-ateq-usa-the-battery-show-2024-detroit-mi-booth-4805/
LOCATION:Huntington Place Detroit\, MI\, 1 Washington Blvd\, Detroit\, MI\, 48226\, United States
ATTACH;FMTTYPE=image/jpeg:https://atequsa.com/wp-content/uploads/2024/05/IMG_1919.jpg
ORGANIZER;CN="The Battery Show":MAILTO:registration.ime@informa.com
END:VEVENT
BEGIN:VEVENT
DTSTART;TZID=America/Detroit:20241003T110000
DTEND;TZID=America/Detroit:20241003T150000
DTSTAMP:20260423T201832
CREATED:20240823T231758Z
LAST-MODIFIED:20250430T192228Z
UID:32763-1727953200-1727967600@atequsa.com
SUMMARY:ATEQ USA Open House (Livonia\, MI) – October 3\, 2024
DESCRIPTION:Experience ATEQ Innovation Live in Livonia – October 3rd!\nJoin ATEQ Corp. at our headquarters in Livonia on October 3rd from 3 to 8 PM EDT. Discover our latest innovations and enjoy a convivial gathering open to all!  \n\nLive Robotic Sniffing \nDemo Accumulation Testing Using Helium \nDemo Air Leak Tester\nAnd more…\n\nSecure your spot today! \nSIGN-UP
URL:https://atequsa.com/event/open-house-ateq-us-hq-livonia-mi/
LOCATION:ATEQ Corp. – Headquarters\, 35980 Industrial Rd\, Livonia\, MI\, 48150\, United States
ATTACH;FMTTYPE=image/jpeg:https://atequsa.com/wp-content/uploads/2024/08/Open-House.jpg
ORGANIZER;CN="ATEQ":MAILTO:marketing@atequsa.com
END:VEVENT
BEGIN:VEVENT
DTSTART;VALUE=DATE:20240603
DTEND;VALUE=DATE:20240607
DTSTAMP:20260423T201832
CREATED:20240521T164919Z
LAST-MODIFIED:20250430T194323Z
UID:32226-1717444800-1717703999@atequsa.com
SUMMARY:
DESCRIPTION:Join ATEQ at MD&M South 2024 – Charlotte\, NC\, Booth #2103\nWe are excited to announce that ATEQ USA will be exhibiting at the MD&M South 2024 in Charlotte\, NC. Join us at Booth #2103 to explore our latest innovations in medical device testing technology. This event is a premier opportunity to connect with industry leaders and discover cutting-edge solutions. See you all there!
URL:https://atequsa.com/event/visit-ateq-usa-mdm-south-2024-charlotte-nc-booth-2103/
LOCATION:Charlotte Convention Center\, 501 S College St\, Charlotte\, NC\, 28202\, United States
ATTACH;FMTTYPE=image/jpeg:https://atequsa.com/wp-content/uploads/2024/05/IMG_1239-e1717155752278.jpg
ORGANIZER;CN="MD&M":MAILTO:registration.ime@informa.com
END:VEVENT
BEGIN:VEVENT
DTSTART;VALUE=DATE:20230911
DTEND;VALUE=DATE:20230915
DTSTAMP:20260423T201832
CREATED:20221210T022849Z
LAST-MODIFIED:20251126T204133Z
UID:28520-1694462400-1694721599@atequsa.com
SUMMARY:Visit ATEQ at The Battery Show 2023 – Booth #2837
DESCRIPTION:ATEQ at The Battery Show 2023 – Booth #2837\nWe’re thrilled to announce we will be showcasing our advanced solutions at The Battery Show\, North America’s largest and most comprehensive advanced battery manufacturing trade show. The event will take place from September 12-14\, 2023\, in Novi\, Michigan. You can find us at Booth #2837. Join us to explore our innovative testing technologies and learn how we can help you meet your quality and production needs. See you there!
URL:https://atequsa.com/event/battery-show-2023-ateq/
LOCATION:Suburban Collection Showplace\, 46100 Grand River Ave\, Novi\, MI\, 48374\, United States
ATTACH;FMTTYPE=image/jpeg:https://atequsa.com/wp-content/uploads/2022/12/batteryshow_photo_US_V1-1.jpg
ORGANIZER;CN="The Battery Show":MAILTO:registration.ime@informa.com
END:VEVENT
BEGIN:VEVENT
DTSTART;VALUE=DATE:20230612
DTEND;VALUE=DATE:20230616
DTSTAMP:20260423T201832
CREATED:20230505T214212Z
LAST-MODIFIED:20250919T183308Z
UID:29350-1686600000-1686859199@atequsa.com
SUMMARY:Visit ATEQ Leak Testing at MD&M East 2023 – Booth #1638
DESCRIPTION:Visit us at MD&M EAST in New York – June 13-15th – Booth 1638\n\n \n\nAttend the world’s largest medical design and manufacturing event. MD&M East is where engineers and executives from across the globe converge before going on to change the lives of patients.
URL:https://atequsa.com/event/mdm-east-new-york-2023/
LOCATION:Jacob Javits Center\, 429 11th Ave\, New York\, NY\, 10001\, United States
ATTACH;FMTTYPE=image/jpeg:https://atequsa.com/wp-content/uploads/2023/05/website_banner_medical_US_V1.jpeg
ORGANIZER;CN="MD&M":MAILTO:registration.ime@informa.com
END:VEVENT
BEGIN:VEVENT
DTSTART;VALUE=DATE:20230530
DTEND;VALUE=DATE:20230602
DTSTAMP:20260423T201832
CREATED:20230516T114128Z
LAST-MODIFIED:20250919T182959Z
UID:29363-1685476800-1685649599@atequsa.com
SUMMARY:ATEQ Mexico at the Automotive Industry Supply Summit - Booth #395
DESCRIPTION:Meet ATEQ Mexico at the Automotive Industry Supply Summit – Booth #395\nFrom May 31st to June 1st\, ATEQ México team is participating to INTERNATIONAL AUTOMOTIVE INDUSTRY SUPPLY SUMMIT \nIt will be the occasion to present you our last innovations and to answer all your questions. We look forward to seeing you at our booth #395. \nSee you soon!
URL:https://atequsa.com/event/ateq-mx-automotive-industry-summit/
LOCATION:Automotive Industry Supply Summit\, Centro de Congresos\, Querétaro\, Mexico
ATTACH;FMTTYPE=image/png:https://atequsa.com/wp-content/uploads/2023/05/11.png
END:VEVENT
BEGIN:VEVENT
DTSTART;VALUE=DATE:20230403
DTEND;VALUE=DATE:20230407
DTSTAMP:20260423T201832
CREATED:20221210T020617Z
LAST-MODIFIED:20250430T194119Z
UID:28508-1680552000-1680811199@atequsa.com
SUMMARY:
DESCRIPTION:Catch ATEQ USA at Assembly Show South 2024 – Visit Us at Booth #838\nOver the past ten years\, The ASSEMBLY Show has been a mainstay in the sector. For the first time\, the Show will take place Nashville\, TN where manufacturing is expanding and thriving at an unheard-of rate. \nCheck out our company profile here.
URL:https://atequsa.com/event/ateq-assembly-show-south-2024-nashville/
LOCATION:Music Center\, 201 Rep. John Lewis Way S\, Nashville\, TN\, 37203\, United States
ATTACH;FMTTYPE=image/jpeg:https://atequsa.com/wp-content/uploads/2022/12/website_Assemblyshow_Nashville_V1_US.jpg
ORGANIZER;CN="The Assembly Show":MAILTO:ASMsouth@executivevents.com
END:VEVENT
BEGIN:VEVENT
DTSTART;VALUE=DATE:20230104
DTEND;VALUE=DATE:20230109
DTSTAMP:20260423T201832
CREATED:20221205T174803Z
LAST-MODIFIED:20250919T183339Z
UID:28294-1672858800-1673204399@atequsa.com
SUMMARY:Visit ATEQ USA @ CES 2023 (Las Vegas\, NV) – Booth #5400
DESCRIPTION:Visit us at Las Vegas CES 2023 January 5-8 AT – Booth 5400\nCES is owned and produced by the Consumer Technology Association\, which provides the ultimate platform for technology leaders to connect\, collaborate\, and propel consumer technology forward. \nATEQ will be exhibiting in the Business France section of the CES in Booth 5400. The Consumer Technology Association is an opportunity for ATEQ to show its expertise of leak testing solutions. Its highly precise measurements solutions insure the highest possible quality of your products. \nContact us to get more information! \n \nhttps://atequsa.com/wp-content/uploads/2022/12/super_cool_tech-1080p.mp4\nMore infos CES
URL:https://atequsa.com/event/ateq-ces-2023/
LOCATION:CES LAS VEGAS\, Convention center\, Las Vegas\, NV\, 89102\, United States
ATTACH;FMTTYPE=image/png:https://atequsa.com/wp-content/uploads/2022/12/Ateq_ces_usa_banner.png
ORGANIZER;CN="Consumer Electronics Show":MAILTO:customerservice@cta.tech
END:VEVENT
END:VCALENDAR